Package: scruff Version: 1.28.0 Command: /Library/Frameworks/R.framework/Resources/bin/R CMD INSTALL scruff StartedAt: 2025-10-29 21:49:28 -0400 (Wed, 29 Oct 2025) EndedAt: 2025-10-29 21:49:54 -0400 (Wed, 29 Oct 2025) EllapsedTime: 26.1 seconds RetCode: 0 Status: OK