Package: scruff Version: 1.28.0 Command: /Library/Frameworks/R.framework/Resources/bin/R CMD build --keep-empty-dirs --no-resave-data scruff StartedAt: 2025-10-30 00:07:23 -0400 (Thu, 30 Oct 2025) EndedAt: 2025-10-30 00:08:18 -0400 (Thu, 30 Oct 2025) EllapsedTime: 55.6 seconds RetCode: 0 Status: OK PackageFile: scruff_1.28.0.tar.gz PackageFileSize: 1.713 MiB