Package: scruff Version: 1.28.0 Command: rm -rf scruff.buildbin-libdir && mkdir scruff.buildbin-libdir && /Users/biocbuild/BBS/utils/build-universal.sh scruff_1.28.0.tar.gz /Library/Frameworks/R.framework/Resources/bin/R scruff.buildbin-libdir StartedAt: 2025-10-30 05:40:28 -0400 (Thu, 30 Oct 2025) EndedAt: 2025-10-30 05:40:55 -0400 (Thu, 30 Oct 2025) EllapsedTime: 27.4 seconds RetCode: 0 Status: OK PackageFile: scruff_1.28.0.tgz PackageFileSize: 3.597 MiB