Package: screenCounter Version: 1.9.0 Command: /home/biocbuild/bbs-3.22-bioc/R/bin/R CMD INSTALL screenCounter StartedAt: 2025-10-24 15:28:55 -0400 (Fri, 24 Oct 2025) EndedAt: 2025-10-24 15:30:23 -0400 (Fri, 24 Oct 2025) EllapsedTime: 88.0 seconds RetCode: 0 Status: OK