Package: screenCounter Version: 1.10.0 Command: /Library/Frameworks/R.framework/Resources/bin/R CMD INSTALL screenCounter StartedAt: 2025-11-10 15:11:53 -0500 (Mon, 10 Nov 2025) EndedAt: 2025-11-10 15:12:18 -0500 (Mon, 10 Nov 2025) EllapsedTime: 25.6 seconds RetCode: 0 Status: OK