Package: screenCounter Version: 1.10.0 Command: /Library/Frameworks/R.framework/Resources/bin/R CMD build --keep-empty-dirs --no-resave-data screenCounter StartedAt: 2025-11-10 17:41:34 -0500 (Mon, 10 Nov 2025) EndedAt: 2025-11-10 17:42:10 -0500 (Mon, 10 Nov 2025) EllapsedTime: 35.4 seconds RetCode: 0 Status: OK PackageFile: screenCounter_1.10.0.tar.gz PackageFileSize: 292.4 KiB