Package: screenCounter Version: 1.10.0 Command: rm -rf screenCounter.buildbin-libdir && mkdir screenCounter.buildbin-libdir && /Users/biocbuild/BBS/utils/build-universal.sh screenCounter_1.10.0.tar.gz /Library/Frameworks/R.framework/Resources/bin/R screenCounter.buildbin-libdir StartedAt: 2025-11-10 23:36:09 -0500 (Mon, 10 Nov 2025) EndedAt: 2025-11-10 23:36:36 -0500 (Mon, 10 Nov 2025) EllapsedTime: 27.5 seconds RetCode: 0 Status: OK PackageFile: screenCounter_1.10.0.tgz PackageFileSize: 528.9 KiB