Package: scrapper Version: 1.3.17 Command: /home/biocbuild/bbs-3.22-bioc/R/bin/R CMD INSTALL scrapper StartedAt: 2025-10-24 15:28:31 -0400 (Fri, 24 Oct 2025) EndedAt: 2025-10-24 15:34:41 -0400 (Fri, 24 Oct 2025) EllapsedTime: 369.9 seconds RetCode: 0 Status: OK