Package: scrapper Version: 1.3.18 Command: /home/biocbuild/bbs-3.22-bioc/R/bin/R CMD build --keep-empty-dirs --no-resave-data --md5 scrapper StartedAt: 2025-10-27 19:56:38 -0400 (Mon, 27 Oct 2025) EndedAt: 2025-10-27 20:05:06 -0400 (Mon, 27 Oct 2025) EllapsedTime: 507.4 seconds RetCode: 0 Status: OK PackageFile: scrapper_1.3.18.tar.gz PackageFileSize: 935.5 KiB