Package: scran Version: 1.37.0 Command: /home/biocbuild/R/R/bin/R CMD INSTALL scran StartedAt: 2025-10-23 21:17:22 -0000 (Thu, 23 Oct 2025) EndedAt: 2025-10-23 21:19:09 -0000 (Thu, 23 Oct 2025) EllapsedTime: 107.4 seconds RetCode: 0 Status: OK