Package: scran Version: 1.37.0 Command: /Library/Frameworks/R.framework/Resources/bin/R CMD build --keep-empty-dirs --no-resave-data scran StartedAt: 2025-10-24 18:41:35 -0400 (Fri, 24 Oct 2025) EndedAt: 2025-10-24 18:45:13 -0400 (Fri, 24 Oct 2025) EllapsedTime: 217.9 seconds RetCode: 0 Status: OK PackageFile: scran_1.37.0.tar.gz PackageFileSize: 1.83 MiB