Package: scran Version: 1.37.0 Command: rm -rf scran.buildbin-libdir && mkdir scran.buildbin-libdir && /Users/biocbuild/BBS/utils/build-universal.sh scran_1.37.0.tar.gz /Library/Frameworks/R.framework/Resources/bin/R scran.buildbin-libdir StartedAt: 2025-10-25 02:03:08 -0400 (Sat, 25 Oct 2025) EndedAt: 2025-10-25 02:04:43 -0400 (Sat, 25 Oct 2025) EllapsedTime: 94.6 seconds RetCode: 0 Status: OK PackageFile: scran_1.37.0.tgz PackageFileSize: 2.304 MiB