Package: scp Version: 1.19.5 Command: /home/biocbuild/bbs-3.22-bioc/R/bin/R CMD INSTALL scp StartedAt: 2025-10-24 15:45:53 -0400 (Fri, 24 Oct 2025) EndedAt: 2025-10-24 15:46:25 -0400 (Fri, 24 Oct 2025) EllapsedTime: 31.5 seconds RetCode: 0 Status: OK