Package: scp Version: 1.20.0 Command: /home/biocbuild/bbs-3.22-bioc/R/bin/R CMD check --install=check:scp.install-out.txt --library=/home/biocbuild/bbs-3.22-bioc/R/site-library --timings scp_1.20.0.tar.gz StartedAt: 2025-10-31 03:48:53 -0400 (Fri, 31 Oct 2025) EndedAt: 2025-10-31 04:01:56 -0400 (Fri, 31 Oct 2025) EllapsedTime: 783.8 seconds RetCode: 0 Status: WARNINGS CheckDir: scp.Rcheck Warnings: 1