Package: scp Version: 1.19.5 Command: /home/biocbuild/bbs-3.22-bioc/R/bin/R CMD build --keep-empty-dirs --no-resave-data --md5 scp StartedAt: 2025-10-24 20:04:01 -0400 (Fri, 24 Oct 2025) EndedAt: 2025-10-24 20:07:50 -0400 (Fri, 24 Oct 2025) EllapsedTime: 229.1 seconds RetCode: 0 Status: OK PackageFile: scp_1.19.5.tar.gz PackageFileSize: 8.514 MiB