Package: scp Version: 1.19.5 Command: /Library/Frameworks/R.framework/Resources/bin/R CMD INSTALL scp StartedAt: 2025-10-24 15:41:23 -0400 (Fri, 24 Oct 2025) EndedAt: 2025-10-24 15:42:06 -0400 (Fri, 24 Oct 2025) EllapsedTime: 42.5 seconds RetCode: 0 Status: OK