Package: scp Version: 1.19.5 Command: /Library/Frameworks/R.framework/Resources/bin/R CMD build --keep-empty-dirs --no-resave-data scp StartedAt: 2025-10-24 18:41:13 -0400 (Fri, 24 Oct 2025) EndedAt: 2025-10-24 18:46:04 -0400 (Fri, 24 Oct 2025) EllapsedTime: 290.9 seconds RetCode: 0 Status: OK PackageFile: scp_1.19.5.tar.gz PackageFileSize: 8.855 MiB