Package: scp Version: 1.19.5 Command: rm -rf scp.buildbin-libdir && mkdir scp.buildbin-libdir && /Users/biocbuild/BBS/utils/build-universal.sh scp_1.19.5.tar.gz /Library/Frameworks/R.framework/Resources/bin/R scp.buildbin-libdir StartedAt: 2025-10-25 02:03:06 -0400 (Sat, 25 Oct 2025) EndedAt: 2025-10-25 02:03:54 -0400 (Sat, 25 Oct 2025) EllapsedTime: 48.6 seconds RetCode: 0 Status: OK PackageFile: scp_1.19.5.tgz PackageFileSize: 7.136 MiB