Package: scp Version: 1.19.5 Command: /Library/Frameworks/R.framework/Resources/bin/R CMD INSTALL scp StartedAt: 2025-10-26 15:19:12 -0400 (Sun, 26 Oct 2025) EndedAt: 2025-10-26 15:19:25 -0400 (Sun, 26 Oct 2025) EllapsedTime: 12.8 seconds RetCode: 0 Status: OK