Package: scp Version: 1.19.5 Command: /Library/Frameworks/R.framework/Resources/bin/R CMD build --keep-empty-dirs --no-resave-data scp StartedAt: 2025-10-26 17:54:12 -0400 (Sun, 26 Oct 2025) EndedAt: 2025-10-26 17:56:06 -0400 (Sun, 26 Oct 2025) EllapsedTime: 114.1 seconds RetCode: 1 Status: ERROR PackageFile: None PackageFileSize: NA