Package: scp Version: 1.19.5 Maintainer: Christophe Vanderaa MaintainerEmail: christophe.vanderaa at ugent.be git_url: https://git.bioconductor.org/packages/scp git_branch: devel git_last_commit: 3ef39c3 git_last_commit_date: 2025-10-14 16:15:34 -0400 (Tue, 14 Oct 2025)