Package: scoup Version: 1.3.0 Command: /home/biocbuild/bbs-3.22-bioc/R/bin/R CMD INSTALL scoup StartedAt: 2025-10-24 15:25:48 -0400 (Fri, 24 Oct 2025) EndedAt: 2025-10-24 15:26:01 -0400 (Fri, 24 Oct 2025) EllapsedTime: 12.3 seconds RetCode: 0 Status: OK