Package: scoup Version: 1.3.0 Command: /Library/Frameworks/R.framework/Resources/bin/R CMD build --keep-empty-dirs --no-resave-data scoup StartedAt: 2025-10-24 17:40:24 -0400 (Fri, 24 Oct 2025) EndedAt: 2025-10-24 17:40:34 -0400 (Fri, 24 Oct 2025) EllapsedTime: 10.1 seconds RetCode: 0 Status: OK PackageFile: scoup_1.3.0.tar.gz PackageFileSize: 334.3 KiB