Package: scoreInvHap Version: 1.31.0 Command: /home/biocbuild/bbs-3.22-bioc/R/bin/R CMD INSTALL scoreInvHap StartedAt: 2025-10-27 15:42:32 -0400 (Mon, 27 Oct 2025) EndedAt: 2025-10-27 15:43:13 -0400 (Mon, 27 Oct 2025) EllapsedTime: 40.9 seconds RetCode: 0 Status: OK