Package: scmeth Version: 1.29.1 Command: /home/biocbuild/bbs-3.22-bioc/R/bin/R CMD check --install=check:scmeth.install-out.txt --library=/home/biocbuild/bbs-3.22-bioc/R/site-library --timings scmeth_1.29.1.tar.gz StartedAt: 2025-10-25 03:52:32 -0400 (Sat, 25 Oct 2025) EndedAt: 2025-10-25 03:59:32 -0400 (Sat, 25 Oct 2025) EllapsedTime: 420.3 seconds RetCode: 0 Status: OK CheckDir: scmeth.Rcheck Warnings: 0