Package: scmeth Version: 1.29.1 Command: /Library/Frameworks/R.framework/Resources/bin/R CMD INSTALL scmeth StartedAt: 2025-10-24 15:24:41 -0400 (Fri, 24 Oct 2025) EndedAt: 2025-10-24 15:25:00 -0400 (Fri, 24 Oct 2025) EllapsedTime: 19.5 seconds RetCode: 0 Status: OK