Package: scmeth Version: 1.29.1 Command: /Library/Frameworks/R.framework/Resources/bin/R CMD build --keep-empty-dirs --no-resave-data scmeth StartedAt: 2025-10-24 17:39:57 -0400 (Fri, 24 Oct 2025) EndedAt: 2025-10-24 17:40:37 -0400 (Fri, 24 Oct 2025) EllapsedTime: 39.5 seconds RetCode: 0 Status: OK PackageFile: scmeth_1.29.1.tar.gz PackageFileSize: 775.7 KiB