Package: scmeth Version: 1.29.1 Command: rm -rf scmeth.buildbin-libdir && mkdir scmeth.buildbin-libdir && /Users/biocbuild/BBS/utils/build-universal.sh scmeth_1.29.1.tar.gz /Library/Frameworks/R.framework/Resources/bin/R scmeth.buildbin-libdir StartedAt: 2025-10-24 23:18:52 -0400 (Fri, 24 Oct 2025) EndedAt: 2025-10-24 23:19:13 -0400 (Fri, 24 Oct 2025) EllapsedTime: 21.4 seconds RetCode: 0 Status: OK PackageFile: scmeth_1.29.1.tgz PackageFileSize: 823.4 KiB