Package: scmap Version: 1.31.0 Command: /home/biocbuild/bbs-3.22-bioc/R/bin/R CMD INSTALL scmap StartedAt: 2025-10-24 15:43:36 -0400 (Fri, 24 Oct 2025) EndedAt: 2025-10-24 15:44:15 -0400 (Fri, 24 Oct 2025) EllapsedTime: 38.7 seconds RetCode: 0 Status: OK