Package: scmap Version: 1.32.0 Command: /Library/Frameworks/R.framework/Resources/bin/R CMD INSTALL scmap StartedAt: 2025-10-29 21:40:21 -0400 (Wed, 29 Oct 2025) EndedAt: 2025-10-29 21:40:36 -0400 (Wed, 29 Oct 2025) EllapsedTime: 14.6 seconds RetCode: 0 Status: OK