Package: scmap Version: 1.32.0 Command: /Library/Frameworks/R.framework/Resources/bin/R CMD build --keep-empty-dirs --no-resave-data scmap StartedAt: 2025-10-30 00:05:11 -0400 (Thu, 30 Oct 2025) EndedAt: 2025-10-30 00:05:35 -0400 (Thu, 30 Oct 2025) EllapsedTime: 23.3 seconds RetCode: 0 Status: OK PackageFile: scmap_1.32.0.tar.gz PackageFileSize: 2.25 MiB