Package: scmap Version: 1.32.0 Command: rm -rf scmap.buildbin-libdir && mkdir scmap.buildbin-libdir && /Users/biocbuild/BBS/utils/build-universal.sh scmap_1.32.0.tar.gz /Library/Frameworks/R.framework/Resources/bin/R scmap.buildbin-libdir StartedAt: 2025-10-30 05:40:03 -0400 (Thu, 30 Oct 2025) EndedAt: 2025-10-30 05:40:19 -0400 (Thu, 30 Oct 2025) EllapsedTime: 16.3 seconds RetCode: 0 Status: OK PackageFile: scmap_1.32.0.tgz PackageFileSize: 3.367 MiB