Package: scifer Version: 1.11.5 Command: /home/biocbuild/R/R/bin/R CMD INSTALL scifer StartedAt: 2025-10-23 21:16:22 -0000 (Thu, 23 Oct 2025) EndedAt: 2025-10-23 21:16:43 -0000 (Thu, 23 Oct 2025) EllapsedTime: 20.4 seconds RetCode: 0 Status: OK