Package: scifer Version: 1.11.5 Command: /home/biocbuild/R/R/bin/R CMD build --keep-empty-dirs --no-resave-data scifer StartedAt: 2025-10-21 02:56:11 -0000 (Tue, 21 Oct 2025) EndedAt: 2025-10-21 02:58:28 -0000 (Tue, 21 Oct 2025) EllapsedTime: 137.1 seconds RetCode: 0 Status: OK PackageFile: scifer_1.11.5.tar.gz PackageFileSize: 1.219 MiB