Package: scifer Version: 1.11.5 Command: /home/biocbuild/bbs-3.22-bioc/R/bin/R CMD INSTALL scifer StartedAt: 2025-10-24 16:01:56 -0400 (Fri, 24 Oct 2025) EndedAt: 2025-10-24 16:02:11 -0400 (Fri, 24 Oct 2025) EllapsedTime: 15.2 seconds RetCode: 0 Status: OK