Package: scifer Version: 1.11.5 Command: /home/biocbuild/bbs-3.22-bioc/R/bin/R CMD check --install=check:scifer.install-out.txt --library=/home/biocbuild/bbs-3.22-bioc/R/site-library --timings scifer_1.11.5.tar.gz StartedAt: 2025-10-25 03:50:42 -0400 (Sat, 25 Oct 2025) EndedAt: 2025-10-25 04:00:30 -0400 (Sat, 25 Oct 2025) EllapsedTime: 587.4 seconds RetCode: 0 Status: OK CheckDir: scifer.Rcheck Warnings: 0