Package: scifer Version: 1.11.5 Command: /home/biocbuild/bbs-3.22-bioc/R/bin/R CMD build --keep-empty-dirs --no-resave-data --md5 scifer StartedAt: 2025-10-24 20:02:33 -0400 (Fri, 24 Oct 2025) EndedAt: 2025-10-24 20:04:46 -0400 (Fri, 24 Oct 2025) EllapsedTime: 133.1 seconds RetCode: 0 Status: OK PackageFile: scifer_1.11.5.tar.gz PackageFileSize: 1.506 MiB