Package: scifer Version: 1.11.5 Command: /Library/Frameworks/R.framework/Resources/bin/R CMD INSTALL scifer StartedAt: 2025-10-24 15:49:29 -0400 (Fri, 24 Oct 2025) EndedAt: 2025-10-24 15:49:52 -0400 (Fri, 24 Oct 2025) EllapsedTime: 23.3 seconds RetCode: 0 Status: OK