Package: scifer Version: 1.11.5 Command: /Library/Frameworks/R.framework/Resources/bin/R CMD INSTALL scifer StartedAt: 2025-10-26 15:27:06 -0400 (Sun, 26 Oct 2025) EndedAt: 2025-10-26 15:27:13 -0400 (Sun, 26 Oct 2025) EllapsedTime: 7.3 seconds RetCode: 0 Status: OK