Package: scider Version: 1.7.3 Command: /home/biocbuild/bbs-3.22-bioc/R/bin/R CMD INSTALL scider StartedAt: 2025-10-24 15:30:44 -0400 (Fri, 24 Oct 2025) EndedAt: 2025-10-24 15:31:18 -0400 (Fri, 24 Oct 2025) EllapsedTime: 34.0 seconds RetCode: 0 Status: OK