Package: scider Version: 1.7.3 Command: /home/biocbuild/bbs-3.22-bioc/R/bin/R CMD build --keep-empty-dirs --no-resave-data --md5 scider StartedAt: 2025-10-24 20:01:52 -0400 (Fri, 24 Oct 2025) EndedAt: 2025-10-24 20:02:52 -0400 (Fri, 24 Oct 2025) EllapsedTime: 60.0 seconds RetCode: 0 Status: OK PackageFile: scider_1.7.3.tar.gz PackageFileSize: 2.335 MiB