Package: scider Version: 1.8.0 Command: /Library/Frameworks/R.framework/Resources/bin/R CMD INSTALL scider StartedAt: 2025-11-10 15:12:46 -0500 (Mon, 10 Nov 2025) EndedAt: 2025-11-10 15:12:59 -0500 (Mon, 10 Nov 2025) EllapsedTime: 13.5 seconds RetCode: 0 Status: OK