Package: schex Version: 1.23.0 Command: /home/biocbuild/bbs-3.22-bioc/R/bin/R CMD INSTALL schex StartedAt: 2025-10-27 15:25:37 -0400 (Mon, 27 Oct 2025) EndedAt: 2025-10-27 15:26:02 -0400 (Mon, 27 Oct 2025) EllapsedTime: 25.3 seconds RetCode: 0 Status: OK