Package: schex Version: 1.23.0 Command: /Library/Frameworks/R.framework/Resources/bin/R CMD INSTALL schex StartedAt: 2025-10-27 15:22:30 -0400 (Mon, 27 Oct 2025) EndedAt: 2025-10-27 15:23:06 -0400 (Mon, 27 Oct 2025) EllapsedTime: 36.1 seconds RetCode: 0 Status: OK