Package: schex Version: 1.23.0 Command: rm -rf schex.buildbin-libdir && mkdir schex.buildbin-libdir && /Users/biocbuild/BBS/utils/build-universal.sh schex_1.23.0.tar.gz /Library/Frameworks/R.framework/Resources/bin/R schex.buildbin-libdir StartedAt: 2025-10-25 02:02:35 -0400 (Sat, 25 Oct 2025) EndedAt: 2025-10-25 02:03:15 -0400 (Sat, 25 Oct 2025) EllapsedTime: 40.4 seconds RetCode: 0 Status: OK PackageFile: schex_1.23.0.tgz PackageFileSize: 2.39 MiB