Package: schex Version: 1.23.0 Command: /Library/Frameworks/R.framework/Resources/bin/R CMD build --keep-empty-dirs --no-resave-data schex StartedAt: 2025-10-26 17:52:29 -0400 (Sun, 26 Oct 2025) EndedAt: 2025-10-26 17:53:14 -0400 (Sun, 26 Oct 2025) EllapsedTime: 44.5 seconds RetCode: 1 Status: ERROR PackageFile: None PackageFileSize: NA