Package: scds Version: 1.25.1 Command: /home/biocbuild/bbs-3.22-bioc/R/bin/R CMD INSTALL scds StartedAt: 2025-10-24 15:29:30 -0400 (Fri, 24 Oct 2025) EndedAt: 2025-10-24 15:29:53 -0400 (Fri, 24 Oct 2025) EllapsedTime: 23.0 seconds RetCode: 0 Status: OK