Package: scde Version: 2.37.0 Command: /home/biocbuild/bbs-3.22-bioc/R/bin/R CMD INSTALL scde StartedAt: 2025-10-24 15:23:29 -0400 (Fri, 24 Oct 2025) EndedAt: 2025-10-24 15:24:24 -0400 (Fri, 24 Oct 2025) EllapsedTime: 54.7 seconds RetCode: 0 Status: OK