Package: scde Version: 2.37.0 Command: /home/biocbuild/bbs-3.22-bioc/R/bin/R CMD build --keep-empty-dirs --no-resave-data --md5 scde StartedAt: 2025-10-24 19:59:36 -0400 (Fri, 24 Oct 2025) EndedAt: 2025-10-24 19:59:39 -0400 (Fri, 24 Oct 2025) EllapsedTime: 3.0 seconds RetCode: 0 Status: OK PackageFile: scde_2.37.0.tar.gz PackageFileSize: 1.061 MiB