Package: sccomp Version: 2.2.0 Command: /Library/Frameworks/R.framework/Resources/bin/R CMD INSTALL sccomp StartedAt: 2025-11-03 15:25:42 -0500 (Mon, 03 Nov 2025) EndedAt: 2025-11-03 15:26:25 -0500 (Mon, 03 Nov 2025) EllapsedTime: 43.3 seconds RetCode: 0 Status: OK